BEGIN:VCALENDAR
VERSION:2.0
METHOD:PUBLISH
X-WR-CALNAME:Leabank School |  July 01 2017- August 01 2017 | Filter\: 
PRODID:-//strange bird labs//Drupal iCal API//EN
BEGIN:VEVENT
DTSTAMP;VALUE=DATE-TIME:20180122T111553Z
DTSTART;VALUE=DATE-TIME:20170703T210000Z
DTEND;VALUE=DATE-TIME:20170703T210000Z
UID:http://www.leabank.school.nz/fitnesss-mums-bubs-29
URL;VALUE=URI:http://www.leabank.school.nz/fitnesss-mums-bubs-29
SUMMARY:Fitnesss Mums & Bubs
DESCRIPTION:<p><strong>FREE</strong></p>
 <p><strong>WEEKLY TUESDAY’S AND THURSDAYS</strong></p>
 <p><strong>10 – 11AM</strong></p>
 <p><strong><em>LEABANK SCHOOL HALL</em></strong></p>
 <p><strong><em>COME ALONG WITH WATER AND TOWEL.</em></strong></p>
 <p><strong><em>ANYONE\, MUMS BRING ALONG BABIES TOO.</em></strong></p>
 <p><strong><em>Contact Nogi 021940858</em></strong></p>
 
END:VEVENT
BEGIN:VEVENT
DTSTAMP;VALUE=DATE-TIME:20180122T111553Z
DTSTART;VALUE=DATE-TIME:20170704T203000Z
DTEND;VALUE=DATE-TIME:20170704T203000Z
UID:http://www.leabank.school.nz/law-seminars-45
URL;VALUE=URI:http://www.leabank.school.nz/law-seminars-45
SUMMARY:Law Seminars
DESCRIPTION:<p>FREE WEEKLY LEGAL EDUCATION SEMINARS WEDNESDAY'S FROM 9.30– 10.30AM\, IN ROOM 23\, LEABANK SCHOOL. FAMILIES ARE ALL WELCOME TO ATTEND THE LAW SEMINARS</p>
 
END:VEVENT
BEGIN:VEVENT
DTSTAMP;VALUE=DATE-TIME:20180122T111553Z
DTSTART;VALUE=DATE-TIME:20170705T010000Z
DTEND;VALUE=DATE-TIME:20170705T010000Z
UID:http://www.leabank.school.nz/parent-teacher-interviews-term-2
URL;VALUE=URI:http://www.leabank.school.nz/parent-teacher-interviews-term-2
SUMMARY:Parent Teacher Interviews Term 2
DESCRIPTION:<p>Make sure you book in a time to see your child's teacher this term</p>
 
END:VEVENT
BEGIN:VEVENT
DTSTAMP;VALUE=DATE-TIME:20180122T111553Z
DTSTART;VALUE=DATE-TIME:20170705T210000Z
DTEND;VALUE=DATE-TIME:20170705T210000Z
UID:http://www.leabank.school.nz/fitnesss-mums-bubs-30
URL;VALUE=URI:http://www.leabank.school.nz/fitnesss-mums-bubs-30
SUMMARY:Fitnesss Mums & Bubs
DESCRIPTION:<p><strong>FREE</strong></p>
 <p><strong>WEEKLY TUESDAY’S AND THURSDAYS</strong></p>
 <p><strong>10 – 11AM</strong></p>
 <p><strong><em>LEABANK SCHOOL HALL</em></strong></p>
 <p><strong><em>COME ALONG WITH WATER AND TOWEL.</em></strong></p>
 <p><strong><em>ANYONE\, MUMS BRING ALONG BABIES TOO.</em></strong></p>
 <p><strong><em>Contact Nogi 021940858</em></strong></p>
 
END:VEVENT
BEGIN:VEVENT
DTSTAMP;VALUE=DATE-TIME:20180122T111553Z
DTSTART;VALUE=DATE-TIME:20170724T210000Z
DTEND;VALUE=DATE-TIME:20170724T210000Z
UID:http://www.leabank.school.nz/fitnesss-mums-bubs-31
URL;VALUE=URI:http://www.leabank.school.nz/fitnesss-mums-bubs-31
SUMMARY:Fitnesss Mums & Bubs
DESCRIPTION:<p><strong>FREE</strong></p>
 <p><strong>WEEKLY TUESDAY’S AND THURSDAYS</strong></p>
 <p><strong>10 – 11AM</strong></p>
 <p><strong><em>LEABANK SCHOOL HALL</em></strong></p>
 <p><strong><em>COME ALONG WITH WATER AND TOWEL.</em></strong></p>
 <p><strong><em>ANYONE\, MUMS BRING ALONG BABIES TOO.</em></strong></p>
 <p><strong><em>Contact Nogi 021940858</em></strong></p>
 
END:VEVENT
BEGIN:VEVENT
DTSTAMP;VALUE=DATE-TIME:20180122T111553Z
DTSTART;VALUE=DATE-TIME:20170726T210000Z
DTEND;VALUE=DATE-TIME:20170726T210000Z
UID:http://www.leabank.school.nz/fitnesss-mums-bubs-33
URL;VALUE=URI:http://www.leabank.school.nz/fitnesss-mums-bubs-33
SUMMARY:Fitnesss Mums & Bubs
DESCRIPTION:<p><strong>FREE</strong></p>
 <p><strong>WEEKLY TUESDAY’S AND THURSDAYS</strong></p>
 <p><strong>10 – 11AM</strong></p>
 <p><strong><em>LEABANK SCHOOL HALL</em></strong></p>
 <p><strong><em>COME ALONG WITH WATER AND TOWEL.</em></strong></p>
 <p><strong><em>ANYONE\, MUMS BRING ALONG BABIES TOO.</em></strong></p>
 <p><strong><em>Contact Nogi 021940858</em></strong></p>
 
END:VEVENT
BEGIN:VEVENT
DTSTAMP;VALUE=DATE-TIME:20180122T111553Z
DTSTART;VALUE=DATE-TIME:20170726T210000Z
DTEND;VALUE=DATE-TIME:20170726T210000Z
UID:http://www.leabank.school.nz/winz-onsite-3
URL;VALUE=URI:http://www.leabank.school.nz/winz-onsite-3
SUMMARY:WINZ onsite
DESCRIPTION:<p><strong><em>“Ask questions about any concerns regarding benefits and changes with MSD.&nbsp\; I am here to give advice and how you can access what you may need to do with Work and Income. I am not able to look into individual cases but can advise clients on what they need to do”&nbsp\;&nbsp\;&nbsp\;<br /></em></strong></p>
 <p><strong><em>Integrated Manager\, WINZ Manurewa.</em></strong></p>
 <p>&nbsp\;</p>
 <p><strong><em>Last Thursday of every month</em></strong></p>
 <p><strong><em>10am - 11am</em></strong></p>
 <p><strong><em>Community Centre</em></strong></p>
 
END:VEVENT
END:VCALENDAR
