BEGIN:VCALENDAR
VERSION:2.0
METHOD:PUBLISH
X-WR-CALNAME:Leabank School |  August 01 2017- September 01 2017
PRODID:-//strange bird labs//Drupal iCal API//EN
BEGIN:VEVENT
DTSTAMP;VALUE=DATE-TIME:20180122T111627Z
DTSTART;VALUE=DATE-TIME:20170731T203000Z
DTEND;VALUE=DATE-TIME:20170731T203000Z
UID:http://www.leabank.school.nz/mental-health-first-aid-7
URL;VALUE=URI:http://www.leabank.school.nz/mental-health-first-aid-7
SUMMARY:Mental Health First Aid
DESCRIPTION:<ul>
 <li><strong>FREE COURSE. RUNNING AT LEABANK SCHOOL. RUNNING FOR 3 DAYS.</strong><strong></strong>
 <ul>
 <li>Learn skills to support a person with a mental health problem or in a mental health crisis.</li>
 </ul>
 </li>
 </ul>
 <p>&nbsp\;•&nbsp\;&nbsp\;&nbsp\; Learn a five step action plan to support a person until the crisis settles or professional support is received</p>
 <p>&nbsp\;<strong style=\\"font-size\: 0.875em\;\\">Wh</strong><strong style=\\"font-size\: 0.875em\;\\">o can attend a MHFA workshop?</strong></p>
 
END:VEVENT
BEGIN:VEVENT
DTSTAMP;VALUE=DATE-TIME:20180122T111627Z
DTSTART;VALUE=DATE-TIME:20170801T203000Z
DTEND;VALUE=DATE-TIME:20170801T203000Z
UID:http://www.leabank.school.nz/law-seminars-47
URL;VALUE=URI:http://www.leabank.school.nz/law-seminars-47
SUMMARY:Law Seminars
END:VEVENT
BEGIN:VEVENT
DTSTAMP;VALUE=DATE-TIME:20180122T111627Z
DTSTART;VALUE=DATE-TIME:20170801T213000Z
DTEND;VALUE=DATE-TIME:20170801T213000Z
UID:http://www.leabank.school.nz/mental-health-first-aid-8
URL;VALUE=URI:http://www.leabank.school.nz/mental-health-first-aid-8
SUMMARY:Mental Health First Aid
DESCRIPTION:<p>1 Aug 2017 09\:30</p>
 <ul>
 <li><strong>FREE COURSE. RUNNING AT LEABANK SCHOOL. RUNNING FOR 3 DAYS.</strong><strong></strong>
 <ul>
 <li>Learn skills to support a person with a mental health problem or in a mental health crisis.</li>
 </ul>
 </li>
 </ul>
 <p>&nbsp\;•&nbsp\;&nbsp\;&nbsp\; Learn a five step action plan to support a person until the crisis settles or professional support is received</p>
 <p>&nbsp\;<strong>Wh</strong><strong>o can attend a MHFA workshop?</strong></p>
 
END:VEVENT
BEGIN:VEVENT
DTSTAMP;VALUE=DATE-TIME:20180122T111627Z
DTSTART;VALUE=DATE-TIME:20170802T213000Z
DTEND;VALUE=DATE-TIME:20170802T213000Z
UID:http://www.leabank.school.nz/mental-health-first-aid-9
URL;VALUE=URI:http://www.leabank.school.nz/mental-health-first-aid-9
SUMMARY:Mental Health First Aid
DESCRIPTION:<p>1 Aug 2017 09\:30</p>
 <ul>
 <li><strong>FREE COURSE. RUNNING AT LEABANK SCHOOL. RUNNING FOR 3 DAYS.</strong><strong></strong>
 <ul>
 <li>Learn skills to support a person with a mental health problem or in a mental health crisis.</li>
 </ul>
 </li>
 </ul>
 <p>&nbsp\;•&nbsp\;&nbsp\;&nbsp\; Learn a five step action plan to support a person until the crisis settles or professional support is received</p>
 <p>&nbsp\;<strong>Wh</strong><strong>o can attend a MHFA workshop?</strong></p>
 
END:VEVENT
BEGIN:VEVENT
DTSTAMP;VALUE=DATE-TIME:20180122T111627Z
DTSTART;VALUE=DATE-TIME:20170808T203000Z
DTEND;VALUE=DATE-TIME:20170808T203000Z
UID:http://www.leabank.school.nz/law-seminars-48
URL;VALUE=URI:http://www.leabank.school.nz/law-seminars-48
SUMMARY:Law Seminars
DESCRIPTION:<p><strong>FREE WEEKLY LEGAL EDUCATION SEMINARS</strong></p>
 <p><strong>WEDNESDAY'S FROM 9.30– 10.30AM\, IN ROOM 23\, LEABANK SCHOOL.</strong></p>
 <p><strong><em>FAMILIES ARE ALL WELCOME TO ATTEND THE LAW SEMINARS&nbsp\;</em></strong></p>
 
END:VEVENT
BEGIN:VEVENT
DTSTAMP;VALUE=DATE-TIME:20180122T111627Z
DTSTART;VALUE=DATE-TIME:20170810T200000Z
DTEND;VALUE=DATE-TIME:20170810T200000Z
UID:http://www.leabank.school.nz/whole-school-cross-country-0
URL;VALUE=URI:http://www.leabank.school.nz/whole-school-cross-country-0
SUMMARY:Whole School Cross Country
END:VEVENT
BEGIN:VEVENT
DTSTAMP;VALUE=DATE-TIME:20180122T111627Z
DTSTART;VALUE=DATE-TIME:20170813T200000Z
DTEND;VALUE=DATE-TIME:20170813T200000Z
UID:http://www.leabank.school.nz/individual-photos-3
URL;VALUE=URI:http://www.leabank.school.nz/individual-photos-3
SUMMARY:Individual Photos
END:VEVENT
BEGIN:VEVENT
DTSTAMP;VALUE=DATE-TIME:20180122T111627Z
DTSTART;VALUE=DATE-TIME:20170815T203000Z
DTEND;VALUE=DATE-TIME:20170815T203000Z
UID:http://www.leabank.school.nz/law-seminars-49
URL;VALUE=URI:http://www.leabank.school.nz/law-seminars-49
SUMMARY:Law Seminars
DESCRIPTION:<p><strong>FREE WEEKLY LEGAL EDUCATION SEMINARS</strong></p>
 <p><strong>WEDNESDAY'S FROM 9.30– 10.30AM\, IN ROOM 23\, LEABANK SCHOOL.</strong></p>
 <p><strong><em>FAMILIES ARE ALL WELCOME TO ATTEND THE LAW SEMINARS&nbsp\;</em></strong></p>
 
END:VEVENT
BEGIN:VEVENT
DTSTAMP;VALUE=DATE-TIME:20180122T111627Z
DTSTART;VALUE=DATE-TIME:20170817T200000Z
DTEND;VALUE=DATE-TIME:20170817T200000Z
UID:http://www.leabank.school.nz/kidscan-mufti-day-0
URL;VALUE=URI:http://www.leabank.school.nz/kidscan-mufti-day-0
SUMMARY:KidsCan Mufti Day
END:VEVENT
BEGIN:VEVENT
DTSTAMP;VALUE=DATE-TIME:20180122T111627Z
DTSTART;VALUE=DATE-TIME:20170821T200200Z
DTEND;VALUE=DATE-TIME:20170821T200200Z
UID:http://www.leabank.school.nz/senior-school-science-assemby
URL;VALUE=URI:http://www.leabank.school.nz/senior-school-science-assemby
SUMMARY:Senior School Science Assemby
DESCRIPTION:<p>Cost $4 per student</p>
 
END:VEVENT
BEGIN:VEVENT
DTSTAMP;VALUE=DATE-TIME:20180122T111627Z
DTSTART;VALUE=DATE-TIME:20170822T203000Z
DTEND;VALUE=DATE-TIME:20170822T203000Z
UID:http://www.leabank.school.nz/law-seminars-50
URL;VALUE=URI:http://www.leabank.school.nz/law-seminars-50
SUMMARY:Law Seminars
DESCRIPTION:<p><strong>FREE WEEKLY LEGAL EDUCATION SEMINARS</strong></p>
 <p><strong>WEDNESDAY'S FROM 9.30– 10.30AM\, IN ROOM 23\, LEABANK SCHOOL.</strong></p>
 <p><strong><em>FAMILIES ARE ALL WELCOME TO ATTEND THE LAW SEMINARS&nbsp\;</em></strong></p>
 
END:VEVENT
BEGIN:VEVENT
DTSTAMP;VALUE=DATE-TIME:20180122T111627Z
DTSTART;VALUE=DATE-TIME:20170823T203000Z
DTEND;VALUE=DATE-TIME:20170823T203000Z
UID:http://www.leabank.school.nz/winz-onsite-4
URL;VALUE=URI:http://www.leabank.school.nz/winz-onsite-4
SUMMARY:WINZ onsite
DESCRIPTION:<p><strong><em>“Ask questions about any concerns regarding benefits and changes with MSD.&nbsp\; I am here to give advice and how you can access what you may need to do with Work and Income. I am not able to look into individual cases but can advise clients on what they need to do”&nbsp\;&nbsp\;&nbsp\;<br /></em></strong></p>
 <p><strong><em>Integrated Manager\, WINZ Manurewa.</em></strong></p>
 <p>&nbsp\;</p>
 <p><strong><em>Last Thursday of every month</em></strong></p>
 <p><strong><em>10am - 11am</em></strong></p>
 <p><strong><em>Community Centre</em></strong></p>
 
END:VEVENT
BEGIN:VEVENT
DTSTAMP;VALUE=DATE-TIME:20180122T111627Z
DTSTART;VALUE=DATE-TIME:20170824T200000Z
DTEND;VALUE=DATE-TIME:20170824T200000Z
UID:http://www.leabank.school.nz/daffodil-day-1
URL;VALUE=URI:http://www.leabank.school.nz/daffodil-day-1
SUMMARY:Daffodil Day
END:VEVENT
BEGIN:VEVENT
DTSTAMP;VALUE=DATE-TIME:20180122T111627Z
DTSTART;VALUE=DATE-TIME:20170828T200000Z
DTEND;VALUE=DATE-TIME:20170828T200000Z
UID:http://www.leabank.school.nz/interschool-cross-country
URL;VALUE=URI:http://www.leabank.school.nz/interschool-cross-country
SUMMARY:Interschool Cross Country
END:VEVENT
BEGIN:VEVENT
DTSTAMP;VALUE=DATE-TIME:20180122T111627Z
DTSTART;VALUE=DATE-TIME:20170829T203000Z
DTEND;VALUE=DATE-TIME:20170829T203000Z
UID:http://www.leabank.school.nz/law-seminars-51
URL;VALUE=URI:http://www.leabank.school.nz/law-seminars-51
SUMMARY:Talking Trash
DESCRIPTION:<p>&nbsp\;</p>
 <p>&nbsp\;</p>
 <p><strong>RED BINS&nbsp\;&nbsp\;&nbsp\;&nbsp\; RECYCLING&nbsp\;&nbsp\;&nbsp\;&nbsp\;&nbsp\; </strong></p>
 <p><strong>WASTE MANAGEMENT</strong></p>
 <p><strong>&nbsp\;</strong></p>
 <p><strong>WHAT TO DO...</strong></p>
 <p><em>COME AND FIND OUT WHAT GOES IN THE RED BIN AND HOW TO MANAGE YOUR RUBBISH AT HOME.</em></p>
 <p><strong>&nbsp\;</strong></p>
 <p><strong>WED 30<sup>TH</sup> AUG</strong></p>
 <p><strong>FROM 9.30AM</strong></p>
 <p><strong>LEABANK SCHOOL</strong></p>
 
END:VEVENT
END:VCALENDAR
