BEGIN:VCALENDAR
VERSION:2.0
METHOD:PUBLISH
X-WR-CALNAME:Leabank School |  September 01 2017- October 01 2017
PRODID:-//strange bird labs//Drupal iCal API//EN
BEGIN:VEVENT
DTSTAMP;VALUE=DATE-TIME:20180122T111021Z
DTSTART;VALUE=DATE-TIME:20170905T203000Z
DTEND;VALUE=DATE-TIME:20170905T203000Z
UID:http://www.leabank.school.nz/law-seminars-52
URL;VALUE=URI:http://www.leabank.school.nz/law-seminars-52
SUMMARY:Law Seminars
DESCRIPTION:<p><strong>FREE WEEKLY LEGAL EDUCATION SEMINARS</strong></p>
 <p><strong>WEDNESDAY'S FROM 9.30– 10.30AM\, IN ROOM 23\, LEABANK SCHOOL.</strong></p>
 <p><strong><em>FAMILIES ARE ALL WELCOME TO ATTEND THE LAW SEMINARS&nbsp\;</em></strong></p>
 
END:VEVENT
BEGIN:VEVENT
DTSTAMP;VALUE=DATE-TIME:20180122T111021Z
DTSTART;VALUE=DATE-TIME:20170911T220000Z
DTEND;VALUE=DATE-TIME:20170911T220000Z
UID:http://www.leabank.school.nz/hope-healthy-optionspositive-eating-10
URL;VALUE=URI:http://www.leabank.school.nz/hope-healthy-optionspositive-eating-10
SUMMARY:H.O.P.E Healthy Options=Positive Eating
DESCRIPTION:<p><strong>Session One \:&nbsp\;</strong>This is who we are<strong></strong></p>
 <p><strong>Session Two\:&nbsp\;</strong>Cultural Value of Food and Generational Patterns<strong></strong></p>
 <p><strong>Session Three \:&nbsp\;</strong>Family Fun Activities<strong></strong></p>
 <p><strong>Session Four \:&nbsp\;</strong>The Family Action Plan<strong></strong></p>
 <p>&nbsp\;</p>
 <p><strong><em>Each week the sessions will include—a small presentation\, then a short fun physical activity\, and then end off with a cooking session and we all have lunch together!</em></strong></p>
 
END:VEVENT
BEGIN:VEVENT
DTSTAMP;VALUE=DATE-TIME:20180122T111021Z
DTSTART;VALUE=DATE-TIME:20170912T203000Z
DTEND;VALUE=DATE-TIME:20170912T203000Z
UID:http://www.leabank.school.nz/law-seminars-53
URL;VALUE=URI:http://www.leabank.school.nz/law-seminars-53
SUMMARY:Law Seminars
DESCRIPTION:<p><strong>FREE WEEKLY LEGAL EDUCATION SEMINARS</strong></p>
 <p><strong>WEDNESDAY'S FROM 9.30– 10.30AM\, IN ROOM 23\, LEABANK SCHOOL.</strong></p>
 <p><strong><em>FAMILIES ARE ALL WELCOME TO ATTEND THE LAW SEMINARS&nbsp\;</em></strong></p>
 
END:VEVENT
BEGIN:VEVENT
DTSTAMP;VALUE=DATE-TIME:20180122T111021Z
DTSTART;VALUE=DATE-TIME:20170913T220000Z
DTEND;VALUE=DATE-TIME:20170913T220000Z
UID:http://www.leabank.school.nz/hope-healthy-optionspositive-eating-12
URL;VALUE=URI:http://www.leabank.school.nz/hope-healthy-optionspositive-eating-12
SUMMARY:H.O.P.E Healthy Options=Positive Eating
DESCRIPTION:<p><strong>Session One \:&nbsp\;</strong>This is who we are<strong></strong></p>
 <p><strong>Session Two\:&nbsp\;</strong>Cultural Value of Food and Generational Patterns<strong></strong></p>
 <p><strong>Session Three \:&nbsp\;</strong>Family Fun Activities<strong></strong></p>
 <p><strong>Session Four \:&nbsp\;</strong>The Family Action Plan<strong></strong></p>
 <p>&nbsp\;</p>
 <p><strong><em>Each week the sessions will include—a small presentation\, then a short fun physical activity\, and then end off with a cooking session and we all have lunch together!</em></strong></p>
 
END:VEVENT
BEGIN:VEVENT
DTSTAMP;VALUE=DATE-TIME:20180122T111021Z
DTSTART;VALUE=DATE-TIME:20170918T220000Z
DTEND;VALUE=DATE-TIME:20170918T220000Z
UID:http://www.leabank.school.nz/hope-healthy-optionspositive-eating-13
URL;VALUE=URI:http://www.leabank.school.nz/hope-healthy-optionspositive-eating-13
SUMMARY:H.O.P.E Healthy Options=Positive Eating
DESCRIPTION:<p><strong>Session One \:&nbsp\;</strong>This is who we are<strong></strong></p>
 <p><strong>Session Two\:&nbsp\;</strong>Cultural Value of Food and Generational Patterns<strong></strong></p>
 <p><strong>Session Three \:&nbsp\;</strong>Family Fun Activities<strong></strong></p>
 <p><strong>Session Four \:&nbsp\;</strong>The Family Action Plan<strong></strong></p>
 <p>&nbsp\;</p>
 <p><strong><em>Each week the sessions will include—a small presentation\, then a short fun physical activity\, and then end off with a cooking session and we all have lunch together!</em></strong></p>
 
END:VEVENT
BEGIN:VEVENT
DTSTAMP;VALUE=DATE-TIME:20180122T111021Z
DTSTART;VALUE=DATE-TIME:20170919T203000Z
DTEND;VALUE=DATE-TIME:20170919T203000Z
UID:http://www.leabank.school.nz/law-seminars-54
URL;VALUE=URI:http://www.leabank.school.nz/law-seminars-54
SUMMARY:Law Seminars
END:VEVENT
BEGIN:VEVENT
DTSTAMP;VALUE=DATE-TIME:20180122T111021Z
DTSTART;VALUE=DATE-TIME:20170920T220000Z
DTEND;VALUE=DATE-TIME:20170920T220000Z
UID:http://www.leabank.school.nz/hope-healthy-optionspositive-eating-11
URL;VALUE=URI:http://www.leabank.school.nz/hope-healthy-optionspositive-eating-11
SUMMARY:H.O.P.E Healthy Options=Positive Eating
DESCRIPTION:<p><strong>Session One \:&nbsp\;</strong>This is who we are<strong></strong></p>
 <p><strong>Session Two\:&nbsp\;</strong>Cultural Value of Food and Generational Patterns<strong></strong></p>
 <p><strong>Session Three \:&nbsp\;</strong>Family Fun Activities<strong></strong></p>
 <p><strong>Session Four \:&nbsp\;</strong>The Family Action Plan<strong></strong></p>
 <p>&nbsp\;</p>
 <p><strong><em>Each week the sessions will include—a small presentation\, then a short fun physical activity\, and then end off with a cooking session and we all have lunch together!</em></strong></p>
 
END:VEVENT
BEGIN:VEVENT
DTSTAMP;VALUE=DATE-TIME:20180122T111021Z
DTSTART;VALUE=DATE-TIME:20170926T203000Z
DTEND;VALUE=DATE-TIME:20170926T203000Z
UID:http://www.leabank.school.nz/law-seminars-55
URL;VALUE=URI:http://www.leabank.school.nz/law-seminars-55
SUMMARY:Law Seminars
DESCRIPTION:<p><strong>FREE WEEKLY LEGAL EDUCATION SEMINARS</strong></p>
 <p><strong>WEDNESDAY'S FROM 9.30– 10.30AM\, IN ROOM 23\, LEABANK SCHOOL.</strong></p>
 <p><strong><em>FAMILIES ARE ALL WELCOME TO ATTEND THE LAW SEMINARS&nbsp\;</em></strong></p>
 
END:VEVENT
BEGIN:VEVENT
DTSTAMP;VALUE=DATE-TIME:20180122T111021Z
DTSTART;VALUE=DATE-TIME:20170927T210000Z
DTEND;VALUE=DATE-TIME:20170927T210000Z
UID:http://www.leabank.school.nz/winz-onsite-5
URL;VALUE=URI:http://www.leabank.school.nz/winz-onsite-5
SUMMARY:WINZ onsite
DESCRIPTION:<p><strong><em>“Ask questions about any concerns regarding benefits and changes with MSD.&nbsp\; I am here to give advice and how you can access what you may need to do with Work and Income. I am not able to look into individual cases but can advise clients on what they need to do”&nbsp\;&nbsp\;&nbsp\;<br /></em></strong></p>
 <p><strong><em>Integrated Manager\, WINZ Manurewa.</em></strong></p>
 <p>&nbsp\;</p>
 <p><strong><em>Last Thursday of every month</em></strong></p>
 <p><strong><em>10am - 11am</em></strong></p>
 <p><strong><em>Community Centre</em></strong></p>
 
END:VEVENT
BEGIN:VEVENT
DTSTAMP;VALUE=DATE-TIME:20180122T111021Z
DTSTART;VALUE=DATE-TIME:20170928T200000Z
DTEND;VALUE=DATE-TIME:20170928T200000Z
UID:http://www.leabank.school.nz/last-day-of-school-0
URL;VALUE=URI:http://www.leabank.school.nz/last-day-of-school-0
SUMMARY:Last Day of School
END:VEVENT
END:VCALENDAR
