BEGIN:VCALENDAR
VERSION:2.0
METHOD:PUBLISH
X-WR-CALNAME:Leabank School |  October 01 2017- November 01 2017
PRODID:-//strange bird labs//Drupal iCal API//EN
BEGIN:VEVENT
DTSTAMP;VALUE=DATE-TIME:20180122T110537Z
DTSTART;VALUE=DATE-TIME:20171011T210000Z
DTEND;VALUE=DATE-TIME:20171011T210000Z
UID:http://www.leabank.school.nz/manurewa-community-expo-0
URL;VALUE=URI:http://www.leabank.school.nz/manurewa-community-expo-0
SUMMARY:Manurewa Community Expo
DESCRIPTION:<p>Free event at Southmall</p>
 <p>from 10am-2pm</p>
 <p>&nbsp\;</p>
 <p>Come along and check out information stalls\, entertainment\, face painting\, freebies etc</p>
 
END:VEVENT
BEGIN:VEVENT
DTSTAMP;VALUE=DATE-TIME:20180122T110537Z
DTSTART;VALUE=DATE-TIME:20171024T203000Z
DTEND;VALUE=DATE-TIME:20171024T203000Z
UID:http://www.leabank.school.nz/law-seminars-56
URL;VALUE=URI:http://www.leabank.school.nz/law-seminars-56
SUMMARY:Law Seminars
DESCRIPTION:<p><strong>FREE WEEKLY LEGAL EDUCATION SEMINARS</strong></p>
 <p><strong>WEDNESDAY'S FROM 9.30– 10.30AM\, IN ROOM 23\, LEABANK SCHOOL.</strong></p>
 <p><strong><em>FAMILIES ARE ALL WELCOME TO ATTEND THE LAW SEMINARS&nbsp\;</em></strong></p>
 
END:VEVENT
BEGIN:VEVENT
DTSTAMP;VALUE=DATE-TIME:20180122T110537Z
DTSTART;VALUE=DATE-TIME:20171029T203000Z
DTEND;VALUE=DATE-TIME:20171029T203000Z
UID:http://www.leabank.school.nz/community-fitness
URL;VALUE=URI:http://www.leabank.school.nz/community-fitness
SUMMARY:Community Fitness 
DESCRIPTION:<p>New days and times for classes.</p>
 <p>&nbsp\;</p>
 <p>Monday's and Friday's</p>
 <p>9.30am - 10.30am</p>
 <p>School Hall</p>
 <p>Free for Community\, Parents and children welcome to come along.</p>
 
END:VEVENT
END:VCALENDAR
