BEGIN:VCALENDAR
VERSION:2.0
METHOD:PUBLISH
X-WR-CALNAME:Leabank School |  November 01 2017- December 01 2017 | Filter\: 
PRODID:-//strange bird labs//Drupal iCal API//EN
BEGIN:VEVENT
DTSTAMP;VALUE=DATE-TIME:20180122T110149Z
DTSTART;VALUE=DATE-TIME:20171102T203000Z
DTEND;VALUE=DATE-TIME:20171102T203000Z
UID:http://www.leabank.school.nz/community-fitness-0
URL;VALUE=URI:http://www.leabank.school.nz/community-fitness-0
SUMMARY:Community Fitness 
DESCRIPTION:<p>New days and times for classes.</p>
 <p>&nbsp\;</p>
 <p>Monday's and Friday's</p>
 <p>9.30am - 10.30am</p>
 <p>School Hall</p>
 <p>Free for Community\, Parents and children welcome to come along.</p>
 
END:VEVENT
BEGIN:VEVENT
DTSTAMP;VALUE=DATE-TIME:20180122T110149Z
DTSTART;VALUE=DATE-TIME:20171105T203000Z
DTEND;VALUE=DATE-TIME:20171105T203000Z
UID:http://www.leabank.school.nz/community-fitness-1
URL;VALUE=URI:http://www.leabank.school.nz/community-fitness-1
SUMMARY:Community Fitness 
DESCRIPTION:<p>New days and times for classes.</p>
 <p>&nbsp\;</p>
 <p>Monday's and Friday's</p>
 <p>9.30am - 10.30am</p>
 <p>School Hall</p>
 <p>Free for Community\, Parents and children welcome to come along.</p>
 
END:VEVENT
BEGIN:VEVENT
DTSTAMP;VALUE=DATE-TIME:20180122T110149Z
DTSTART;VALUE=DATE-TIME:20171107T203000Z
DTEND;VALUE=DATE-TIME:20171107T203000Z
UID:http://www.leabank.school.nz/law-seminars-58
URL;VALUE=URI:http://www.leabank.school.nz/law-seminars-58
SUMMARY:Law Seminars
DESCRIPTION:<p><strong>FREE WEEKLY LEGAL EDUCATION SEMINARS</strong></p>
 <p><strong>WEDNESDAY'S FROM 9.30– 10.30AM\, IN ROOM 23\, LEABANK SCHOOL.</strong></p>
 <p><strong><em>FAMILIES ARE ALL WELCOME TO ATTEND THE LAW SEMINARS&nbsp\;</em></strong></p>
 
END:VEVENT
BEGIN:VEVENT
DTSTAMP;VALUE=DATE-TIME:20180122T110149Z
DTSTART;VALUE=DATE-TIME:20171109T203000Z
DTEND;VALUE=DATE-TIME:20171109T203000Z
UID:http://www.leabank.school.nz/community-fitness-2
URL;VALUE=URI:http://www.leabank.school.nz/community-fitness-2
SUMMARY:Community Fitness 
DESCRIPTION:<p>New days and times for classes.</p>
 <p>&nbsp\;</p>
 <p>Monday's and Friday's</p>
 <p>9.30am - 10.30am</p>
 <p>School Hall</p>
 <p>Free for Community\, Parents and children welcome to come along.</p>
 
END:VEVENT
BEGIN:VEVENT
DTSTAMP;VALUE=DATE-TIME:20180122T110149Z
DTSTART;VALUE=DATE-TIME:20171112T203000Z
DTEND;VALUE=DATE-TIME:20171112T203000Z
UID:http://www.leabank.school.nz/community-fitness-3
URL;VALUE=URI:http://www.leabank.school.nz/community-fitness-3
SUMMARY:Community Fitness 
DESCRIPTION:<p>&nbsp\;</p>
 <p>Monday's and Friday's</p>
 <p>9.30am - 10.30am</p>
 <p>School Hall</p>
 <p>Free for Community\, Parents and children welcome to come along.</p>
 
END:VEVENT
BEGIN:VEVENT
DTSTAMP;VALUE=DATE-TIME:20180122T110149Z
DTSTART;VALUE=DATE-TIME:20171116T203000Z
DTEND;VALUE=DATE-TIME:20171116T203000Z
UID:http://www.leabank.school.nz/community-fitness-4
URL;VALUE=URI:http://www.leabank.school.nz/community-fitness-4
SUMMARY:Community Fitness 
DESCRIPTION:<p>&nbsp\;</p>
 <p>Monday's and Friday's</p>
 <p>9.30am - 10.30am</p>
 <p>School Hall</p>
 <p>Free for Community\, Parents and children welcome to come along.</p>
 
END:VEVENT
BEGIN:VEVENT
DTSTAMP;VALUE=DATE-TIME:20180122T110149Z
DTSTART;VALUE=DATE-TIME:20171119T203000Z
DTEND;VALUE=DATE-TIME:20171119T203000Z
UID:http://www.leabank.school.nz/community-fitness-5
URL;VALUE=URI:http://www.leabank.school.nz/community-fitness-5
SUMMARY:Community Fitness 
DESCRIPTION:<p>&nbsp\;</p>
 <p>Monday's and Friday's</p>
 <p>9.30am - 10.30am</p>
 <p>School Hall</p>
 <p>Free for Community\, Parents and children welcome to come along.</p>
 
END:VEVENT
BEGIN:VEVENT
DTSTAMP;VALUE=DATE-TIME:20180122T110149Z
DTSTART;VALUE=DATE-TIME:20171123T203000Z
DTEND;VALUE=DATE-TIME:20171123T203000Z
UID:http://www.leabank.school.nz/community-fitness-6
URL;VALUE=URI:http://www.leabank.school.nz/community-fitness-6
SUMMARY:Community Fitness 
DESCRIPTION:<p>&nbsp\;</p>
 <p>Monday's and Friday's</p>
 <p>9.30am - 10.30am</p>
 <p>School Hall</p>
 <p>Free for Community\, Parents and children welcome to come along.</p>
 
END:VEVENT
BEGIN:VEVENT
DTSTAMP;VALUE=DATE-TIME:20180122T110149Z
DTSTART;VALUE=DATE-TIME:20171126T203000Z
DTEND;VALUE=DATE-TIME:20171126T203000Z
UID:http://www.leabank.school.nz/community-fitness-7
URL;VALUE=URI:http://www.leabank.school.nz/community-fitness-7
SUMMARY:Community Fitness 
DESCRIPTION:<p>New days and times for classes.</p>
 <p>&nbsp\;</p>
 <p>Monday's and Friday's</p>
 <p>9.30am - 10.30am</p>
 <p>School Hall</p>
 <p>Free for Community\, Parents and children welcome to come along.</p>
 
END:VEVENT
END:VCALENDAR
